Package: DNAcopy Version: 1.83.0 Command: /Library/Frameworks/R.framework/Resources/bin/R CMD build --keep-empty-dirs --no-resave-data DNAcopy StartedAt: 2025-05-06 16:37:38 -0400 (Tue, 06 May 2025) EndedAt: 2025-05-06 16:37:59 -0400 (Tue, 06 May 2025) EllapsedTime: 21.7 seconds RetCode: 0 Status: OK PackageFile: DNAcopy_1.83.0.tar.gz PackageFileSize: 404 KiB