Package: DNAcopy Version: 1.83.0 Command: /Library/Frameworks/R.framework/Resources/bin/R CMD INSTALL DNAcopy StartedAt: 2025-05-07 15:01:40 -0400 (Wed, 07 May 2025) EndedAt: 2025-05-07 15:01:45 -0400 (Wed, 07 May 2025) EllapsedTime: 5.3 seconds RetCode: 0 Status: OK