Package: DNABarcodes Version: 1.39.0 Command: rm -rf DNABarcodes.buildbin-libdir && mkdir DNABarcodes.buildbin-libdir && F:\biocbuild\bbs-3.22-bioc\R\bin\R.exe CMD INSTALL --build --library=DNABarcodes.buildbin-libdir DNABarcodes_1.39.0.tar.gz StartedAt: 2025-08-15 10:10:44 -0400 (Fri, 15 Aug 2025) EndedAt: 2025-08-15 10:12:19 -0400 (Fri, 15 Aug 2025) EllapsedTime: 94.8 seconds RetCode: 0 Status: OK PackageFile: DNABarcodes_1.39.0.zip PackageFileSize: 905.2 KiB