Package: DMRcaller Version: 1.39.0 Command: E:\biocbuild\bbs-3.21-bioc\R\bin\R.exe CMD check --no-multiarch --install=check:DMRcaller.install-out.txt --library=E:\biocbuild\bbs-3.21-bioc\R\library --no-vignettes --timings DMRcaller_1.39.0.tar.gz StartedAt: 2025-02-04 01:02:34 -0500 (Tue, 04 Feb 2025) EndedAt: 2025-02-04 01:08:13 -0500 (Tue, 04 Feb 2025) EllapsedTime: 339.4 seconds RetCode: 0 Status: OK CheckDir: DMRcaller.Rcheck Warnings: 0