Package: DMRcaller Version: 1.41.2 Command: /home/biocbuild/bbs-3.22-bioc/R/bin/R CMD INSTALL DMRcaller StartedAt: 2025-10-27 15:30:36 -0400 (Mon, 27 Oct 2025) EndedAt: 2025-10-27 15:31:09 -0400 (Mon, 27 Oct 2025) EllapsedTime: 33.2 seconds RetCode: 0 Status: OK