Package: DMRcaller Version: 1.41.0 Command: /Library/Frameworks/R.framework/Resources/bin/R CMD check --install=check:DMRcaller.install-out.txt --library=/Library/Frameworks/R.framework/Resources/library --no-vignettes --timings DMRcaller_1.41.0.tar.gz StartedAt: 2025-05-08 20:22:36 -0400 (Thu, 08 May 2025) EndedAt: 2025-05-08 20:27:46 -0400 (Thu, 08 May 2025) EllapsedTime: 309.8 seconds RetCode: 0 Status: OK CheckDir: DMRcaller.Rcheck Warnings: 0