Package: DMRcaller Version: 1.41.0 Command: /Library/Frameworks/R.framework/Resources/bin/R CMD build --keep-empty-dirs --no-resave-data DMRcaller StartedAt: 2025-05-08 16:38:21 -0400 (Thu, 08 May 2025) EndedAt: 2025-05-08 16:40:01 -0400 (Thu, 08 May 2025) EllapsedTime: 100.5 seconds RetCode: 0 Status: OK PackageFile: DMRcaller_1.41.0.tar.gz PackageFileSize: 1.633 MiB