Package: DMRcaller Version: 1.41.0 Command: /Library/Frameworks/R.framework/Resources/bin/R CMD INSTALL DMRcaller StartedAt: 2025-05-09 15:11:12 -0400 (Fri, 09 May 2025) EndedAt: 2025-05-09 15:11:18 -0400 (Fri, 09 May 2025) EllapsedTime: 6.5 seconds RetCode: 0 Status: OK