Package: DMRScan Version: 1.31.0 Command: /Library/Frameworks/R.framework/Resources/bin/R CMD check --install=check:DMRScan.install-out.txt --library=/Library/Frameworks/R.framework/Resources/library --no-vignettes --timings DMRScan_1.31.0.tar.gz StartedAt: 2025-05-06 20:19:57 -0400 (Tue, 06 May 2025) EndedAt: 2025-05-06 20:26:18 -0400 (Tue, 06 May 2025) EllapsedTime: 381.1 seconds RetCode: 0 Status: OK CheckDir: DMRScan.Rcheck Warnings: 0