Package: DMRScan Version: 1.31.0 Command: rm -rf DMRScan.buildbin-libdir && mkdir DMRScan.buildbin-libdir && /Users/biocbuild/BBS/utils/build-universal.sh DMRScan_1.31.0.tar.gz /Library/Frameworks/R.framework/Resources/bin/R DMRScan.buildbin-libdir StartedAt: 2025-05-07 00:40:30 -0400 (Wed, 07 May 2025) EndedAt: 2025-05-07 00:40:55 -0400 (Wed, 07 May 2025) EllapsedTime: 25.4 seconds RetCode: 0 Status: OK PackageFile: DMRScan_1.31.0.tgz PackageFileSize: 5.081 MiB