Package: DMRScan Version: 1.31.1 Command: rm -rf DMRScan.buildbin-libdir && mkdir DMRScan.buildbin-libdir && /Users/biocbuild/BBS/utils/build-universal.sh DMRScan_1.31.1.tar.gz /Library/Frameworks/R.framework/Resources/bin/R DMRScan.buildbin-libdir StartedAt: 2025-10-21 22:59:17 -0400 (Tue, 21 Oct 2025) EndedAt: 2025-10-21 22:59:24 -0400 (Tue, 21 Oct 2025) EllapsedTime: 7.1 seconds RetCode: 0 Status: OK PackageFile: DMRScan_1.31.1.tgz PackageFileSize: 5.081 MiB