Package: DMCHMM Version: 1.31.0 Command: rm -rf DMCHMM.buildbin-libdir && mkdir DMCHMM.buildbin-libdir && F:\biocbuild\bbs-3.22-bioc\R\bin\R.exe CMD INSTALL --build --library=DMCHMM.buildbin-libdir DMCHMM_1.31.0.tar.gz StartedAt: 2025-08-15 10:10:15 -0400 (Fri, 15 Aug 2025) EndedAt: 2025-08-15 10:11:05 -0400 (Fri, 15 Aug 2025) EllapsedTime: 49.9 seconds RetCode: 0 Status: OK PackageFile: DMCHMM_1.31.0.zip PackageFileSize: 955 KiB