Package: DMCFB Version: 1.21.0 Command: E:\biocbuild\bbs-3.21-bioc\R\bin\R.exe CMD INSTALL DMCFB StartedAt: 2025-02-03 16:34:23 -0500 (Mon, 03 Feb 2025) EndedAt: 2025-02-03 16:35:12 -0500 (Mon, 03 Feb 2025) EllapsedTime: 49.1 seconds RetCode: 0 Status: OK