Package: DMCFB Version: 1.23.0 Command: /home/biocbuild/bbs-3.22-bioc/R/bin/R CMD INSTALL DMCFB StartedAt: 2025-10-10 15:39:28 -0400 (Fri, 10 Oct 2025) EndedAt: 2025-10-10 15:40:02 -0400 (Fri, 10 Oct 2025) EllapsedTime: 34.4 seconds RetCode: 0 Status: OK