Package: DMCFB Version: 1.23.0 Command: /home/biocbuild/bbs-3.22-bioc/R/bin/R CMD build --keep-empty-dirs --no-resave-data --md5 DMCFB StartedAt: 2025-10-10 17:33:14 -0400 (Fri, 10 Oct 2025) EndedAt: 2025-10-10 17:34:31 -0400 (Fri, 10 Oct 2025) EllapsedTime: 77.1 seconds RetCode: 0 Status: OK PackageFile: DMCFB_1.23.0.tar.gz PackageFileSize: 1.054 MiB