Package: DMCFB Version: 1.21.0 Command: rm -rf DMCFB.buildbin-libdir && mkdir DMCFB.buildbin-libdir && /Users/biocbuild/BBS/utils/build-universal.sh DMCFB_1.21.0.tar.gz /Library/Frameworks/R.framework/Resources/bin/R DMCFB.buildbin-libdir StartedAt: 2025-02-03 22:48:26 -0500 (Mon, 03 Feb 2025) EndedAt: 2025-02-03 22:48:43 -0500 (Mon, 03 Feb 2025) EllapsedTime: 16.3 seconds RetCode: 0 Status: OK PackageFile: DMCFB_1.21.0.tgz PackageFileSize: 1.208 MiB