Package: DIAlignR Version: 2.15.1 Command: /home/biocbuild/bbs-3.21-bioc/R/bin/R CMD INSTALL DIAlignR StartedAt: 2025-02-20 15:31:49 -0500 (Thu, 20 Feb 2025) EndedAt: 2025-02-20 15:32:47 -0500 (Thu, 20 Feb 2025) EllapsedTime: 58.5 seconds RetCode: 0 Status: OK