Package: DIAlignR Version: 2.15.1 Command: /Library/Frameworks/R.framework/Resources/bin/R CMD check --install=check:DIAlignR.install-out.txt --library=/Library/Frameworks/R.framework/Resources/library --no-vignettes --timings DIAlignR_2.15.1.tar.gz StartedAt: 2025-02-20 20:02:41 -0500 (Thu, 20 Feb 2025) EndedAt: 2025-02-20 20:05:48 -0500 (Thu, 20 Feb 2025) EllapsedTime: 186.2 seconds RetCode: 1 Status: ERROR CheckDir: DIAlignR.Rcheck Warnings: NA