Package: DIAlignR Version: 2.15.1 Command: /Library/Frameworks/R.framework/Resources/bin/R CMD build --keep-empty-dirs --no-resave-data DIAlignR StartedAt: 2025-02-20 16:09:17 -0500 (Thu, 20 Feb 2025) EndedAt: 2025-02-20 16:09:45 -0500 (Thu, 20 Feb 2025) EllapsedTime: 27.3 seconds RetCode: 0 Status: OK PackageFile: DIAlignR_2.15.1.tar.gz PackageFileSize: 4.271 MiB