Package: DFplyr Version: 1.3.0 Command: rm -rf DFplyr.buildbin-libdir && mkdir DFplyr.buildbin-libdir && F:\biocbuild\bbs-3.22-bioc\R\bin\R.exe CMD INSTALL --build --library=DFplyr.buildbin-libdir DFplyr_1.3.0.tar.gz StartedAt: 2025-08-15 10:09:19 -0400 (Fri, 15 Aug 2025) EndedAt: 2025-08-15 10:09:38 -0400 (Fri, 15 Aug 2025) EllapsedTime: 18.6 seconds RetCode: 0 Status: OK PackageFile: DFplyr_1.3.0.zip PackageFileSize: 552.5 KiB