Package: DFP Version: 1.67.0 Command: chmod a+r DFP -R && F:\biocbuild\bbs-3.22-bioc\R\bin\R.exe CMD build --keep-empty-dirs --no-resave-data DFP StartedAt: 2025-08-14 19:42:02 -0400 (Thu, 14 Aug 2025) EndedAt: 2025-08-14 19:42:20 -0400 (Thu, 14 Aug 2025) EllapsedTime: 17.9 seconds RetCode: 0 Status: OK PackageFile: DFP_1.67.0.tar.gz PackageFileSize: 354.8 KiB