Package: DExMA Version: 1.17.0 Command: chmod a+r DExMA -R && F:\biocbuild\bbs-3.22-bioc\R\bin\R.exe CMD build --keep-empty-dirs --no-resave-data DExMA StartedAt: 2025-08-14 19:41:14 -0400 (Thu, 14 Aug 2025) EndedAt: 2025-08-14 19:42:36 -0400 (Thu, 14 Aug 2025) EllapsedTime: 82.5 seconds RetCode: 0 Status: OK PackageFile: DExMA_1.17.0.tar.gz PackageFileSize: 319.4 KiB