Package: DExMA Version: 1.17.0 Command: rm -rf DExMA.buildbin-libdir && mkdir DExMA.buildbin-libdir && F:\biocbuild\bbs-3.22-bioc\R\bin\R.exe CMD INSTALL --build --library=DExMA.buildbin-libdir DExMA_1.17.0.tar.gz StartedAt: 2025-08-15 10:09:14 -0400 (Fri, 15 Aug 2025) EndedAt: 2025-08-15 10:09:59 -0400 (Fri, 15 Aug 2025) EllapsedTime: 44.8 seconds RetCode: 0 Status: OK PackageFile: DExMA_1.17.0.zip PackageFileSize: 411.9 KiB