Package: DEsubs Version: 1.35.0 Command: /Library/Frameworks/R.framework/Resources/bin/R CMD INSTALL DEsubs StartedAt: 2025-05-02 15:19:55 -0400 (Fri, 02 May 2025) EndedAt: 2025-05-02 15:20:32 -0400 (Fri, 02 May 2025) EllapsedTime: 36.9 seconds RetCode: 0 Status: OK