Package: DEsubs Version: 1.35.0 Command: /Library/Frameworks/R.framework/Resources/bin/R CMD build --keep-empty-dirs --no-resave-data DEsubs StartedAt: 2025-10-05 16:46:53 -0400 (Sun, 05 Oct 2025) EndedAt: 2025-10-05 16:48:21 -0400 (Sun, 05 Oct 2025) EllapsedTime: 87.9 seconds RetCode: 0 Status: OK PackageFile: DEsubs_1.35.0.tar.gz PackageFileSize: 3.972 MiB