Package: DEsubs Version: 1.35.0 Command: /Library/Frameworks/R.framework/Resources/bin/R CMD INSTALL DEsubs StartedAt: 2025-05-06 15:13:29 -0400 (Tue, 06 May 2025) EndedAt: 2025-05-06 15:13:42 -0400 (Tue, 06 May 2025) EllapsedTime: 12.5 seconds RetCode: 0 Status: OK