Package: DEsubs Version: 1.35.0 Command: /Library/Frameworks/R.framework/Resources/bin/R CMD check --install=check:DEsubs.install-out.txt --library=/Library/Frameworks/R.framework/Resources/library --no-vignettes --timings DEsubs_1.35.0.tar.gz StartedAt: 2025-05-08 19:15:12 -0400 (Thu, 08 May 2025) EndedAt: 2025-05-08 19:16:44 -0400 (Thu, 08 May 2025) EllapsedTime: 92.0 seconds RetCode: 0 Status: WARNINGS CheckDir: DEsubs.Rcheck Warnings: 1