Package: DESpace Version: 2.3.1 Command: rm -rf DESpace.buildbin-libdir && mkdir DESpace.buildbin-libdir && /Users/biocbuild/BBS/utils/build-universal.sh DESpace_2.3.1.tar.gz /Library/Frameworks/R.framework/Resources/bin/R DESpace.buildbin-libdir StartedAt: 2025-11-25 01:28:58 -0500 (Tue, 25 Nov 2025) EndedAt: 2025-11-25 01:30:02 -0500 (Tue, 25 Nov 2025) EllapsedTime: 64.5 seconds RetCode: 0 Status: OK PackageFile: DESpace_2.3.1.tgz PackageFileSize: 9.662 MiB