Package: DESeq2 Version: 1.49.3 Command: F:\biocbuild\bbs-3.22-bioc\R\bin\R.exe CMD INSTALL DESeq2 StartedAt: 2025-08-14 16:01:38 -0400 (Thu, 14 Aug 2025) EndedAt: 2025-08-14 16:04:03 -0400 (Thu, 14 Aug 2025) EllapsedTime: 145.2 seconds RetCode: 0 Status: OK