Package: DEScan2 Version: 1.29.2 Command: /home/biocbuild/bbs-3.22-bioc/R/bin/R CMD INSTALL DEScan2 StartedAt: 2025-10-19 15:53:46 -0400 (Sun, 19 Oct 2025) EndedAt: 2025-10-19 15:54:45 -0400 (Sun, 19 Oct 2025) EllapsedTime: 58.7 seconds RetCode: 0 Status: OK