Package: DEScan2 Version: 1.29.2 Command: /home/biocbuild/bbs-3.22-bioc/R/bin/R CMD build --keep-empty-dirs --no-resave-data --md5 DEScan2 StartedAt: 2025-10-19 17:18:52 -0400 (Sun, 19 Oct 2025) EndedAt: 2025-10-19 17:20:24 -0400 (Sun, 19 Oct 2025) EllapsedTime: 92.1 seconds RetCode: 0 Status: OK PackageFile: DEScan2_1.29.2.tar.gz PackageFileSize: 2.486 MiB