Package: DEScan2 Version: 1.27.0 Command: /Library/Frameworks/R.framework/Resources/bin/R CMD check --install=check:DEScan2.install-out.txt --library=/Library/Frameworks/R.framework/Resources/library --no-vignettes --timings DEScan2_1.27.0.tar.gz StartedAt: 2025-01-10 20:04:27 -0500 (Fri, 10 Jan 2025) EndedAt: 2025-01-10 20:12:49 -0500 (Fri, 10 Jan 2025) EllapsedTime: 502.5 seconds RetCode: 0 Status: WARNINGS CheckDir: DEScan2.Rcheck Warnings: 2