Package: DEP Version: 1.31.0 Command: rm -rf DEP.buildbin-libdir && mkdir DEP.buildbin-libdir && F:\biocbuild\bbs-3.22-bioc\R\bin\R.exe CMD INSTALL --build --library=DEP.buildbin-libdir DEP_1.31.0.tar.gz StartedAt: 2025-08-15 10:08:18 -0400 (Fri, 15 Aug 2025) EndedAt: 2025-08-15 10:09:23 -0400 (Fri, 15 Aug 2025) EllapsedTime: 64.6 seconds RetCode: 0 Status: OK PackageFile: DEP_1.31.0.zip PackageFileSize: 3.083 MiB