Package: DEP Version: 1.31.0 Command: /Library/Frameworks/R.framework/Resources/bin/R CMD INSTALL DEP StartedAt: 2025-05-01 15:19:25 -0400 (Thu, 01 May 2025) EndedAt: 2025-05-01 15:19:42 -0400 (Thu, 01 May 2025) EllapsedTime: 17.4 seconds RetCode: 0 Status: OK