Package: DEP Version: 1.31.0 Command: /Library/Frameworks/R.framework/Resources/bin/R CMD check --install=check:DEP.install-out.txt --library=/Library/Frameworks/R.framework/Resources/library --no-vignettes --timings DEP_1.31.0.tar.gz StartedAt: 2025-05-02 19:07:29 -0400 (Fri, 02 May 2025) EndedAt: 2025-05-02 19:10:11 -0400 (Fri, 02 May 2025) EllapsedTime: 162.0 seconds RetCode: 0 Status: WARNINGS CheckDir: DEP.Rcheck Warnings: 1