Package: DEP Version: 1.31.0 Command: rm -rf DEP.buildbin-libdir && mkdir DEP.buildbin-libdir && /Users/biocbuild/BBS/utils/build-universal.sh DEP_1.31.0.tar.gz /Library/Frameworks/R.framework/Resources/bin/R DEP.buildbin-libdir StartedAt: 2025-05-02 22:35:35 -0400 (Fri, 02 May 2025) EndedAt: 2025-05-02 22:35:55 -0400 (Fri, 02 May 2025) EllapsedTime: 19.3 seconds RetCode: 0 Status: OK PackageFile: DEP_1.31.0.tgz PackageFileSize: 4.264 MiB