Package: DELocal Version: 1.9.0 Command: /home/biocbuild/bbs-3.22-bioc/R/bin/R CMD INSTALL DELocal StartedAt: 2025-10-10 15:35:02 -0400 (Fri, 10 Oct 2025) EndedAt: 2025-10-10 15:35:27 -0400 (Fri, 10 Oct 2025) EllapsedTime: 25.8 seconds RetCode: 0 Status: OK