Package: DEGseq Version: 1.63.0 Command: chmod a+r DEGseq -R && F:\biocbuild\bbs-3.22-bioc\R\bin\R.exe CMD build --keep-empty-dirs --no-resave-data DEGseq StartedAt: 2025-08-14 19:36:15 -0400 (Thu, 14 Aug 2025) EndedAt: 2025-08-14 19:36:57 -0400 (Thu, 14 Aug 2025) EllapsedTime: 42.0 seconds RetCode: 0 Status: OK PackageFile: DEGseq_1.63.0.tar.gz PackageFileSize: 1.838 MiB