Package: DEGseq Version: 1.63.0 Command: /Library/Frameworks/R.framework/Resources/bin/R CMD build --keep-empty-dirs --no-resave-data DEGseq StartedAt: 2025-05-04 16:32:09 -0400 (Sun, 04 May 2025) EndedAt: 2025-05-04 16:32:41 -0400 (Sun, 04 May 2025) EllapsedTime: 31.8 seconds RetCode: 0 Status: OK PackageFile: DEGseq_1.63.0.tar.gz PackageFileSize: 1.959 MiB