Package: DEGseq Version: 1.63.0 Command: rm -rf DEGseq.buildbin-libdir && mkdir DEGseq.buildbin-libdir && /Users/biocbuild/BBS/utils/build-universal.sh DEGseq_1.63.0.tar.gz /Library/Frameworks/R.framework/Resources/bin/R DEGseq.buildbin-libdir StartedAt: 2025-05-05 00:43:08 -0400 (Mon, 05 May 2025) EndedAt: 2025-05-05 00:43:29 -0400 (Mon, 05 May 2025) EllapsedTime: 20.8 seconds RetCode: 0 Status: OK PackageFile: DEGseq_1.63.0.tgz PackageFileSize: 2.248 MiB