Package: DEGreport Version: 1.45.0 Command: /Library/Frameworks/R.framework/Resources/bin/R CMD INSTALL DEGreport StartedAt: 2025-04-30 15:29:37 -0400 (Wed, 30 Apr 2025) EndedAt: 2025-04-30 15:30:18 -0400 (Wed, 30 Apr 2025) EllapsedTime: 40.7 seconds RetCode: 0 Status: OK