Package: DEGreport Version: 1.45.0 Command: /Library/Frameworks/R.framework/Resources/bin/R CMD check --install=check:DEGreport.install-out.txt --library=/Library/Frameworks/R.framework/Resources/library --no-vignettes --timings DEGreport_1.45.0.tar.gz StartedAt: 2025-05-15 20:04:26 -0400 (Thu, 15 May 2025) EndedAt: 2025-05-15 20:10:04 -0400 (Thu, 15 May 2025) EllapsedTime: 337.6 seconds RetCode: 0 Status: OK CheckDir: DEGreport.Rcheck Warnings: 0