Package: DEFormats Version: 1.37.0 Command: /home/biocbuild/bbs-3.22-bioc/R/bin/R CMD INSTALL DEFormats StartedAt: 2025-10-02 15:30:29 -0400 (Thu, 02 Oct 2025) EndedAt: 2025-10-02 15:30:55 -0400 (Thu, 02 Oct 2025) EllapsedTime: 26.2 seconds RetCode: 0 Status: OK