Package: DEFormats Version: 1.35.0 Command: /Library/Frameworks/R.framework/Resources/bin/R CMD build --keep-empty-dirs --no-resave-data DEFormats StartedAt: 2025-02-16 16:23:30 -0500 (Sun, 16 Feb 2025) EndedAt: 2025-02-16 16:24:14 -0500 (Sun, 16 Feb 2025) EllapsedTime: 44.3 seconds RetCode: 0 Status: OK PackageFile: DEFormats_1.35.0.tar.gz PackageFileSize: 226.4 KiB