Package: DECIPHER Version: 3.5.0 Command: chmod a+r DECIPHER -R && F:\biocbuild\bbs-3.22-bioc\R\bin\R.exe CMD build --keep-empty-dirs --no-resave-data DECIPHER StartedAt: 2025-08-14 19:32:24 -0400 (Thu, 14 Aug 2025) EndedAt: 2025-08-14 19:56:43 -0400 (Thu, 14 Aug 2025) EllapsedTime: 1458.8 seconds RetCode: 0 Status: OK PackageFile: DECIPHER_3.5.0.tar.gz PackageFileSize: 17.92 MiB