Package: DECIPHER Version: 3.5.0 Command: rm -rf DECIPHER.buildbin-libdir && mkdir DECIPHER.buildbin-libdir && F:\biocbuild\bbs-3.22-bioc\R\bin\R.exe CMD INSTALL --build --library=DECIPHER.buildbin-libdir DECIPHER_3.5.0.tar.gz StartedAt: 2025-08-15 10:06:17 -0400 (Fri, 15 Aug 2025) EndedAt: 2025-08-15 10:08:20 -0400 (Fri, 15 Aug 2025) EllapsedTime: 122.2 seconds RetCode: 0 Status: OK PackageFile: DECIPHER_3.5.0.zip PackageFileSize: 17.48 MiB