Package: DECIPHER Version: 3.5.0 Maintainer: Erik Wright MaintainerEmail: eswright at pitt.edu git_url: https://git.bioconductor.org/packages/DECIPHER git_branch: devel git_last_commit: f5796e8 git_last_commit_date: 2025-04-15 10:10:51 -0400 (Tue, 15 Apr 2025)