Package: DCATS Version: 1.7.0 Command: rm -rf DCATS.buildbin-libdir && mkdir DCATS.buildbin-libdir && F:\biocbuild\bbs-3.22-bioc\R\bin\R.exe CMD INSTALL --build --library=DCATS.buildbin-libdir DCATS_1.7.0.tar.gz StartedAt: 2025-08-15 10:05:56 -0400 (Fri, 15 Aug 2025) EndedAt: 2025-08-15 10:06:17 -0400 (Fri, 15 Aug 2025) EllapsedTime: 21.8 seconds RetCode: 0 Status: OK PackageFile: DCATS_1.7.0.zip PackageFileSize: 2.873 MiB