Package: DCATS Version: 1.5.0 Command: E:\biocbuild\bbs-3.21-bioc\R\bin\R.exe CMD INSTALL DCATS StartedAt: 2025-02-05 16:33:27 -0500 (Wed, 05 Feb 2025) EndedAt: 2025-02-05 16:33:41 -0500 (Wed, 05 Feb 2025) EllapsedTime: 13.9 seconds RetCode: 0 Status: OK