Package: DCATS Version: 1.5.0 Command: chmod a+r DCATS -R && E:\biocbuild\bbs-3.21-bioc\R\bin\R.exe CMD build --keep-empty-dirs --no-resave-data DCATS StartedAt: 2025-02-03 18:24:13 -0500 (Mon, 03 Feb 2025) EndedAt: 2025-02-03 18:24:35 -0500 (Mon, 03 Feb 2025) EllapsedTime: 21.8 seconds RetCode: 0 Status: OK PackageFile: DCATS_1.5.0.tar.gz PackageFileSize: 2.836 MiB